BEGIN:VCALENDAR
VERSION:2.0
METHOD:PUBLISH
X-WR-CALNAME: Calendar | NSWMTB
PRODID:-//Drupal iCal API//EN
BEGIN:VEVENT
UID:calendar.56220.field_when.0.0
SUMMARY:2018 Sheep Station
DTSTAMP:20180225T063906Z
DTSTART:20180428Z
DTEND:20180429Z
URL;VALUE=URI:http://nswmtb.asn.au/node/56220
END:VEVENT
END:VCALENDAR
